BEGIN:VCALENDAR
VERSION:2.0
PRODID:-//Connected Horse - ECPv6.15.17.1//NONSGML v1.0//EN
CALSCALE:GREGORIAN
METHOD:PUBLISH
X-ORIGINAL-URL:https://connectedhorse.org
X-WR-CALDESC:Events for Connected Horse
REFRESH-INTERVAL;VALUE=DURATION:PT1H
X-Robots-Tag:noindex
X-PUBLISHED-TTL:PT1H
BEGIN:VTIMEZONE
TZID:America/Los_Angeles
BEGIN:DAYLIGHT
TZOFFSETFROM:-0800
TZOFFSETTO:-0700
TZNAME:PDT
DTSTART:20240310T100000
END:DAYLIGHT
BEGIN:STANDARD
TZOFFSETFROM:-0700
TZOFFSETTO:-0800
TZNAME:PST
DTSTART:20241103T090000
END:STANDARD
BEGIN:DAYLIGHT
TZOFFSETFROM:-0800
TZOFFSETTO:-0700
TZNAME:PDT
DTSTART:20250309T100000
END:DAYLIGHT
BEGIN:STANDARD
TZOFFSETFROM:-0700
TZOFFSETTO:-0800
TZNAME:PST
DTSTART:20251102T090000
END:STANDARD
BEGIN:DAYLIGHT
TZOFFSETFROM:-0800
TZOFFSETTO:-0700
TZNAME:PDT
DTSTART:20260308T100000
END:DAYLIGHT
BEGIN:STANDARD
TZOFFSETFROM:-0700
TZOFFSETTO:-0800
TZNAME:PST
DTSTART:20261101T090000
END:STANDARD
BEGIN:DAYLIGHT
TZOFFSETFROM:-0800
TZOFFSETTO:-0700
TZNAME:PDT
DTSTART:20270314T100000
END:DAYLIGHT
BEGIN:STANDARD
TZOFFSETFROM:-0700
TZOFFSETTO:-0800
TZNAME:PST
DTSTART:20271107T090000
END:STANDARD
END:VTIMEZONE
BEGIN:VEVENT
DTSTART;TZID=America/Los_Angeles:20250715T103000
DTEND;TZID=America/Los_Angeles:20250715T120000
DTSTAMP:20260422T152019
CREATED:20250319T203234Z
LAST-MODIFIED:20251201T191131Z
UID:10000222-1752575400-1752580800@connectedhorse.org
SUMMARY:Sensory Engagement Class - Carefield Living
DESCRIPTION:Our Sensory Engagement Class is designed to introduce community groups\, senior living communities\, and other organizations focused on those affected by dementia to the therapeutic benefits of sensory engagement! A trained Connected Horse facilitator will guide your group through interactive activities to stimulate the senses. \n\n\nCommunity Residents Only \n\n\nIf your community group or senior living community is interested in scheduling a Sensory Engagement Class\, please contact Lisa Galliani at Lisa@ConnectedHorse.org.
URL:https://connectedhorse.org/event/sensory-engagement-class-carefield-living-3/2025-07-15/
LOCATION:Carefield Living\, Pleasanton\, Pleasanton\, CA
CATEGORIES:Custom Program,Sensory Engagement
ATTACH;FMTTYPE=image/jpeg:https://connectedhorse.org/wp-content/uploads/class-carefield.jpg
END:VEVENT
BEGIN:VEVENT
DTSTART;TZID=America/Los_Angeles:20250715T140000
DTEND;TZID=America/Los_Angeles:20250715T153000
DTSTAMP:20260422T152019
CREATED:20250319T203515Z
LAST-MODIFIED:20251201T191217Z
UID:10000231-1752588000-1752593400@connectedhorse.org
SUMMARY:Sensory Engagement Class - Quail Garden Assisted Living
DESCRIPTION:Our Sensory Engagement Class is designed to introduce community groups\, senior living communities\, and other organizations focused on those affected by dementia to the therapeutic benefits of sensory engagement! A trained Connected Horse facilitator will guide your group through interactive activities to stimulate the senses. \n\n\nCommunity Residents Only \n\n\nIf your community group or senior living community is interested in scheduling a Sensory Engagement Class\, please contact Lisa Galliani at Lisa@ConnectedHorse.org.
URL:https://connectedhorse.org/event/sensory-engagement-class-quail-garden-assisted-living/2025-07-15/
LOCATION:Quail Garden Assisted Living\, Livermore\, Livermore\, CA
CATEGORIES:Custom Program,Sensory Engagement
ATTACH;FMTTYPE=image/jpeg:https://connectedhorse.org/wp-content/uploads/class-quail-garden.jpg
END:VEVENT
BEGIN:VEVENT
DTSTART;TZID=America/Los_Angeles:20250812T103000
DTEND;TZID=America/Los_Angeles:20250812T120000
DTSTAMP:20260422T152019
CREATED:20250319T203234Z
LAST-MODIFIED:20251201T191131Z
UID:10000223-1754994600-1755000000@connectedhorse.org
SUMMARY:Sensory Engagement Class - Carefield Living
DESCRIPTION:Our Sensory Engagement Class is designed to introduce community groups\, senior living communities\, and other organizations focused on those affected by dementia to the therapeutic benefits of sensory engagement! A trained Connected Horse facilitator will guide your group through interactive activities to stimulate the senses. \n\n\nCommunity Residents Only \n\n\nIf your community group or senior living community is interested in scheduling a Sensory Engagement Class\, please contact Lisa Galliani at Lisa@ConnectedHorse.org.
URL:https://connectedhorse.org/event/sensory-engagement-class-carefield-living-3/2025-08-12/
LOCATION:Carefield Living\, Pleasanton\, Pleasanton\, CA
CATEGORIES:Custom Program,Sensory Engagement
ATTACH;FMTTYPE=image/jpeg:https://connectedhorse.org/wp-content/uploads/class-carefield.jpg
END:VEVENT
BEGIN:VEVENT
DTSTART;TZID=America/Los_Angeles:20250812T140000
DTEND;TZID=America/Los_Angeles:20250812T153000
DTSTAMP:20260422T152019
CREATED:20250319T203515Z
LAST-MODIFIED:20251201T191217Z
UID:10000232-1755007200-1755012600@connectedhorse.org
SUMMARY:Sensory Engagement Class - Quail Garden Assisted Living
DESCRIPTION:Our Sensory Engagement Class is designed to introduce community groups\, senior living communities\, and other organizations focused on those affected by dementia to the therapeutic benefits of sensory engagement! A trained Connected Horse facilitator will guide your group through interactive activities to stimulate the senses. \n\n\nCommunity Residents Only \n\n\nIf your community group or senior living community is interested in scheduling a Sensory Engagement Class\, please contact Lisa Galliani at Lisa@ConnectedHorse.org.
URL:https://connectedhorse.org/event/sensory-engagement-class-quail-garden-assisted-living/2025-08-12/
LOCATION:Quail Garden Assisted Living\, Livermore\, Livermore\, CA
CATEGORIES:Custom Program,Sensory Engagement
ATTACH;FMTTYPE=image/jpeg:https://connectedhorse.org/wp-content/uploads/class-quail-garden.jpg
END:VEVENT
BEGIN:VEVENT
DTSTART;TZID=America/Los_Angeles:20250815T110000
DTEND;TZID=America/Los_Angeles:20250815T120000
DTSTAMP:20260422T152019
CREATED:20250701T205023Z
LAST-MODIFIED:20250701T205023Z
UID:10000221-1755255600-1755259200@connectedhorse.org
SUMMARY:Sensory Engagement Class - Creekview Assisted Living
DESCRIPTION:Our Sensory Engagement Class is designed to introduce community groups\, senior living communities\, and other organizations focused on those affected by dementia to the therapeutic benefits of sensory engagement! A trained Connected Horse facilitator will guide your group through interactive activities to stimulate the senses. \n\n\nCommunity Residents Only \n\n\nIf your community group or senior living community is interested in scheduling a Sensory Engagement Class\, please contact Isabel Soloaga at isabel@connectedhorse.org.
URL:https://connectedhorse.org/event/sensory-engagement-class-creekview-assisted-living-2/
LOCATION:Creekview Assisted Living\, Pleasanton\, CA\, Pleasanton\, CA
CATEGORIES:Custom Program,Sensory Engagement
ATTACH;FMTTYPE=image/jpeg:https://connectedhorse.org/wp-content/uploads/class-creekview.jpg
END:VEVENT
BEGIN:VEVENT
DTSTART;TZID=America/Los_Angeles:20250909T103000
DTEND;TZID=America/Los_Angeles:20250909T120000
DTSTAMP:20260422T152019
CREATED:20250319T203234Z
LAST-MODIFIED:20251201T191131Z
UID:10000224-1757413800-1757419200@connectedhorse.org
SUMMARY:Sensory Engagement Class - Carefield Living
DESCRIPTION:Our Sensory Engagement Class is designed to introduce community groups\, senior living communities\, and other organizations focused on those affected by dementia to the therapeutic benefits of sensory engagement! A trained Connected Horse facilitator will guide your group through interactive activities to stimulate the senses. \n\n\nCommunity Residents Only \n\n\nIf your community group or senior living community is interested in scheduling a Sensory Engagement Class\, please contact Lisa Galliani at Lisa@ConnectedHorse.org.
URL:https://connectedhorse.org/event/sensory-engagement-class-carefield-living-3/2025-09-09/
LOCATION:Carefield Living\, Pleasanton\, Pleasanton\, CA
CATEGORIES:Custom Program,Sensory Engagement
ATTACH;FMTTYPE=image/jpeg:https://connectedhorse.org/wp-content/uploads/class-carefield.jpg
END:VEVENT
BEGIN:VEVENT
DTSTART;TZID=America/Los_Angeles:20250909T140000
DTEND;TZID=America/Los_Angeles:20250909T153000
DTSTAMP:20260422T152019
CREATED:20250319T203515Z
LAST-MODIFIED:20251201T191217Z
UID:10000233-1757426400-1757431800@connectedhorse.org
SUMMARY:Sensory Engagement Class - Quail Garden Assisted Living
DESCRIPTION:Our Sensory Engagement Class is designed to introduce community groups\, senior living communities\, and other organizations focused on those affected by dementia to the therapeutic benefits of sensory engagement! A trained Connected Horse facilitator will guide your group through interactive activities to stimulate the senses. \n\n\nCommunity Residents Only \n\n\nIf your community group or senior living community is interested in scheduling a Sensory Engagement Class\, please contact Lisa Galliani at Lisa@ConnectedHorse.org.
URL:https://connectedhorse.org/event/sensory-engagement-class-quail-garden-assisted-living/2025-09-09/
LOCATION:Quail Garden Assisted Living\, Livermore\, Livermore\, CA
CATEGORIES:Custom Program,Sensory Engagement
ATTACH;FMTTYPE=image/jpeg:https://connectedhorse.org/wp-content/uploads/class-quail-garden.jpg
END:VEVENT
BEGIN:VEVENT
DTSTART;TZID=America/Los_Angeles:20251014T100000
DTEND;TZID=America/Los_Angeles:20251014T120000
DTSTAMP:20260422T152019
CREATED:20250319T203234Z
LAST-MODIFIED:20251201T191131Z
UID:10000225-1760436000-1760443200@connectedhorse.org
SUMMARY:Sensory Engagement Class - Carefield Living
DESCRIPTION:Our Sensory Engagement Class is designed to introduce community groups\, senior living communities\, and other organizations focused on those affected by dementia to the therapeutic benefits of sensory engagement! A trained Connected Horse facilitator will guide your group through interactive activities to stimulate the senses. \n\n\nCommunity Residents Only \n\n\nIf your community group or senior living community is interested in scheduling a Sensory Engagement Class\, please contact Lisa Galliani at Lisa@ConnectedHorse.org.
URL:https://connectedhorse.org/event/sensory-engagement-class-carefield-living-3/2025-10-14/
LOCATION:Carefield Living\, Pleasanton\, Pleasanton\, CA
CATEGORIES:Custom Program,Sensory Engagement
ATTACH;FMTTYPE=image/jpeg:https://connectedhorse.org/wp-content/uploads/class-carefield.jpg
END:VEVENT
BEGIN:VEVENT
DTSTART;TZID=America/Los_Angeles:20251014T140000
DTEND;TZID=America/Los_Angeles:20251014T153000
DTSTAMP:20260422T152019
CREATED:20250319T203515Z
LAST-MODIFIED:20251201T191217Z
UID:10000234-1760450400-1760455800@connectedhorse.org
SUMMARY:Sensory Engagement Class - Quail Garden Assisted Living
DESCRIPTION:Our Sensory Engagement Class is designed to introduce community groups\, senior living communities\, and other organizations focused on those affected by dementia to the therapeutic benefits of sensory engagement! A trained Connected Horse facilitator will guide your group through interactive activities to stimulate the senses. \n\n\nCommunity Residents Only \n\n\nIf your community group or senior living community is interested in scheduling a Sensory Engagement Class\, please contact Lisa Galliani at Lisa@ConnectedHorse.org.
URL:https://connectedhorse.org/event/sensory-engagement-class-quail-garden-assisted-living/2025-10-14/
LOCATION:Quail Garden Assisted Living\, Livermore\, Livermore\, CA
CATEGORIES:Custom Program,Sensory Engagement
ATTACH;FMTTYPE=image/jpeg:https://connectedhorse.org/wp-content/uploads/class-quail-garden.jpg
END:VEVENT
BEGIN:VEVENT
DTSTART;TZID=America/Los_Angeles:20251111T103000
DTEND;TZID=America/Los_Angeles:20251111T120000
DTSTAMP:20260422T152019
CREATED:20250319T203234Z
LAST-MODIFIED:20251201T191131Z
UID:10000226-1762857000-1762862400@connectedhorse.org
SUMMARY:Sensory Engagement Class - Carefield Living
DESCRIPTION:Our Sensory Engagement Class is designed to introduce community groups\, senior living communities\, and other organizations focused on those affected by dementia to the therapeutic benefits of sensory engagement! A trained Connected Horse facilitator will guide your group through interactive activities to stimulate the senses. \n\n\nCommunity Residents Only \n\n\nIf your community group or senior living community is interested in scheduling a Sensory Engagement Class\, please contact Lisa Galliani at Lisa@ConnectedHorse.org.
URL:https://connectedhorse.org/event/sensory-engagement-class-carefield-living-3/2025-11-11/
LOCATION:Carefield Living\, Pleasanton\, Pleasanton\, CA
CATEGORIES:Custom Program,Sensory Engagement
ATTACH;FMTTYPE=image/jpeg:https://connectedhorse.org/wp-content/uploads/class-carefield.jpg
END:VEVENT
BEGIN:VEVENT
DTSTART;TZID=America/Los_Angeles:20251111T140000
DTEND;TZID=America/Los_Angeles:20251111T153000
DTSTAMP:20260422T152019
CREATED:20250319T203515Z
LAST-MODIFIED:20251201T191217Z
UID:10000235-1762869600-1762875000@connectedhorse.org
SUMMARY:Sensory Engagement Class - Quail Garden Assisted Living
DESCRIPTION:Our Sensory Engagement Class is designed to introduce community groups\, senior living communities\, and other organizations focused on those affected by dementia to the therapeutic benefits of sensory engagement! A trained Connected Horse facilitator will guide your group through interactive activities to stimulate the senses. \n\n\nCommunity Residents Only \n\n\nIf your community group or senior living community is interested in scheduling a Sensory Engagement Class\, please contact Lisa Galliani at Lisa@ConnectedHorse.org.
URL:https://connectedhorse.org/event/sensory-engagement-class-quail-garden-assisted-living/2025-11-11/
LOCATION:Quail Garden Assisted Living\, Livermore\, Livermore\, CA
CATEGORIES:Custom Program,Sensory Engagement
ATTACH;FMTTYPE=image/jpeg:https://connectedhorse.org/wp-content/uploads/class-quail-garden.jpg
END:VEVENT
BEGIN:VEVENT
DTSTART;TZID=America/Los_Angeles:20251118T110000
DTEND;TZID=America/Los_Angeles:20251118T120000
DTSTAMP:20260422T152019
CREATED:20251210T205813Z
LAST-MODIFIED:20251210T205813Z
UID:10000304-1763463600-1763467200@connectedhorse.org
SUMMARY:Sensory Engagement Class - Creekview Assisted Living
DESCRIPTION:Our Sensory Engagement Class is designed to introduce community groups\, senior living communities\, and other organizations focused on those affected by dementia to the therapeutic benefits of sensory engagement! A trained Connected Horse facilitator will guide your group through interactive activities to stimulate the senses. \n\n\nCommunity Residents Only \n\n\nIf your community group or senior living community is interested in scheduling a Sensory Engagement Class\, please contact us at info@connectedhorse.org.
URL:https://connectedhorse.org/event/sensory-engagement-class-creekview-assisted-living-3/
LOCATION:Creekview Assisted Living\, Pleasanton\, CA\, Pleasanton\, CA
CATEGORIES:Custom Program,Sensory Engagement
ATTACH;FMTTYPE=image/jpeg:https://connectedhorse.org/wp-content/uploads/class-creekview.jpg
END:VEVENT
BEGIN:VEVENT
DTSTART;TZID=America/Los_Angeles:20251209T103000
DTEND;TZID=America/Los_Angeles:20251209T120000
DTSTAMP:20260422T152019
CREATED:20250319T203234Z
LAST-MODIFIED:20251201T191131Z
UID:10000227-1765276200-1765281600@connectedhorse.org
SUMMARY:Sensory Engagement Class - Carefield Living
DESCRIPTION:Our Sensory Engagement Class is designed to introduce community groups\, senior living communities\, and other organizations focused on those affected by dementia to the therapeutic benefits of sensory engagement! A trained Connected Horse facilitator will guide your group through interactive activities to stimulate the senses. \n\n\nCommunity Residents Only \n\n\nIf your community group or senior living community is interested in scheduling a Sensory Engagement Class\, please contact Lisa Galliani at Lisa@ConnectedHorse.org.
URL:https://connectedhorse.org/event/sensory-engagement-class-carefield-living-3/2025-12-09/
LOCATION:Carefield Living\, Pleasanton\, Pleasanton\, CA
CATEGORIES:Custom Program,Sensory Engagement
ATTACH;FMTTYPE=image/jpeg:https://connectedhorse.org/wp-content/uploads/class-carefield.jpg
END:VEVENT
BEGIN:VEVENT
DTSTART;TZID=America/Los_Angeles:20251209T110000
DTEND;TZID=America/Los_Angeles:20251209T120000
DTSTAMP:20260422T152019
CREATED:20251210T205840Z
LAST-MODIFIED:20251210T205840Z
UID:10000305-1765278000-1765281600@connectedhorse.org
SUMMARY:Sensory Engagement Class - Creekview Assisted Living
DESCRIPTION:Our Sensory Engagement Class is designed to introduce community groups\, senior living communities\, and other organizations focused on those affected by dementia to the therapeutic benefits of sensory engagement! A trained Connected Horse facilitator will guide your group through interactive activities to stimulate the senses. \n\n\nCommunity Residents Only \n\n\nIf your community group or senior living community is interested in scheduling a Sensory Engagement Class\, please contact us at info@connectedhorse.org.
URL:https://connectedhorse.org/event/sensory-engagement-class-creekview-assisted-living-4/
LOCATION:Creekview Assisted Living\, Pleasanton\, CA\, Pleasanton\, CA
CATEGORIES:Custom Program,Sensory Engagement
ATTACH;FMTTYPE=image/jpeg:https://connectedhorse.org/wp-content/uploads/class-creekview.jpg
END:VEVENT
BEGIN:VEVENT
DTSTART;TZID=America/Los_Angeles:20251211T140000
DTEND;TZID=America/Los_Angeles:20251211T153000
DTSTAMP:20260422T152019
CREATED:20251210T205958Z
LAST-MODIFIED:20251210T210000Z
UID:10000236-1765461600-1765467000@connectedhorse.org
SUMMARY:Sensory Engagement Class - Quail Garden Assisted Living
DESCRIPTION:Our Sensory Engagement Class is designed to introduce community groups\, senior living communities\, and other organizations focused on those affected by dementia to the therapeutic benefits of sensory engagement! A trained Connected Horse facilitator will guide your group through interactive activities to stimulate the senses. \n\n\nCommunity Residents Only \n\n\nIf your community group or senior living community is interested in scheduling a Sensory Engagement Class\, please contact Lisa Galliani at Lisa@ConnectedHorse.org.
URL:https://connectedhorse.org/event/sensory-engagement-class-quail-garden-assisted-living-4/
LOCATION:Quail Garden Assisted Living\, Livermore\, Livermore\, CA
CATEGORIES:Custom Program,Sensory Engagement
ATTACH;FMTTYPE=image/jpeg:https://connectedhorse.org/wp-content/uploads/class-quail-garden.jpg
END:VEVENT
BEGIN:VEVENT
DTSTART;TZID=America/Los_Angeles:20260117T103000
DTEND;TZID=America/Los_Angeles:20260117T120000
DTSTAMP:20260422T152019
CREATED:20260105T231626Z
LAST-MODIFIED:20260105T231627Z
UID:10000322-1768645800-1768651200@connectedhorse.org
SUMMARY:Sensory Engagement Class - Carefield Living
DESCRIPTION:Our Sensory Engagement Class is designed to introduce community groups\, senior living communities\, and other organizations focused on those affected by dementia to the therapeutic benefits of sensory engagement! A trained Connected Horse facilitator will guide your group through interactive activities to stimulate the senses. \n\n\nCommunity Residents Only \n\n\nIf your community group or senior living community is interested in scheduling a Sensory Engagement Class\, please contact us at info@connectedhorse.org
URL:https://connectedhorse.org/event/sensory-engagement-class-carefield-living-4-2/
LOCATION:Carefield Living\, Pleasanton\, Pleasanton\, CA
CATEGORIES:Custom Program,Sensory Engagement
ATTACH;FMTTYPE=image/jpeg:https://connectedhorse.org/wp-content/uploads/class-carefield.jpg
END:VEVENT
BEGIN:VEVENT
DTSTART;TZID=America/Los_Angeles:20260215T103000
DTEND;TZID=America/Los_Angeles:20260215T120000
DTSTAMP:20260422T152019
CREATED:20251210T211648Z
LAST-MODIFIED:20260121T174538Z
UID:10000327-1771151400-1771156800@connectedhorse.org
SUMMARY:Sensory Engagement Class - Carefield Living
DESCRIPTION:Our Sensory Engagement Class is designed to introduce community groups\, senior living communities\, and other organizations focused on those affected by dementia to the therapeutic benefits of sensory engagement! A trained Connected Horse facilitator will guide your group through interactive activities to stimulate the senses. \n\n\nCommunity Residents Only \n\n\nIf your community group or senior living community is interested in scheduling a Sensory Engagement Class\, please contact us at info@connectedhorse.org
URL:https://connectedhorse.org/event/sensory-engagement-class-carefield-living-4/2026-02-15/
LOCATION:Carefield Living\, Pleasanton\, Pleasanton\, CA
CATEGORIES:Custom Program,Sensory Engagement
ATTACH;FMTTYPE=image/jpeg:https://connectedhorse.org/wp-content/uploads/class-carefield.jpg
END:VEVENT
BEGIN:VEVENT
DTSTART;TZID=America/Los_Angeles:20260315T103000
DTEND;TZID=America/Los_Angeles:20260315T120000
DTSTAMP:20260422T152019
CREATED:20251210T211648Z
LAST-MODIFIED:20260121T174538Z
UID:10000328-1773570600-1773576000@connectedhorse.org
SUMMARY:Sensory Engagement Class - Carefield Living
DESCRIPTION:Our Sensory Engagement Class is designed to introduce community groups\, senior living communities\, and other organizations focused on those affected by dementia to the therapeutic benefits of sensory engagement! A trained Connected Horse facilitator will guide your group through interactive activities to stimulate the senses. \n\n\nCommunity Residents Only \n\n\nIf your community group or senior living community is interested in scheduling a Sensory Engagement Class\, please contact us at info@connectedhorse.org
URL:https://connectedhorse.org/event/sensory-engagement-class-carefield-living-4/2026-03-15/
LOCATION:Carefield Living\, Pleasanton\, Pleasanton\, CA
CATEGORIES:Custom Program,Sensory Engagement
ATTACH;FMTTYPE=image/jpeg:https://connectedhorse.org/wp-content/uploads/class-carefield.jpg
END:VEVENT
BEGIN:VEVENT
DTSTART;TZID=America/Los_Angeles:20260414T103000
DTEND;TZID=America/Los_Angeles:20260414T120000
DTSTAMP:20260422T152019
CREATED:20260319T191917Z
LAST-MODIFIED:20260319T192204Z
UID:10000346-1776162600-1776168000@connectedhorse.org
SUMMARY:Sensory Engagement Class - Carefield Living
DESCRIPTION:Our Sensory Engagement Class is designed to introduce community groups\, senior living communities\, and other organizations focused on those affected by dementia to the therapeutic benefits of sensory engagement! A trained Connected Horse facilitator will guide your group through interactive activities to stimulate the senses. \n\n\nCommunity Residents Only \n\n\nIf your community group or senior living community is interested in scheduling a Sensory Engagement Class\, please contact us at info@connectedhorse.org
URL:https://connectedhorse.org/event/sensory-engagement-class-carefield-living-5/
LOCATION:Carefield Living\, Pleasanton\, Pleasanton\, CA
CATEGORIES:Custom Program,Sensory Engagement
ATTACH;FMTTYPE=image/jpeg:https://connectedhorse.org/wp-content/uploads/class-carefield.jpg
END:VEVENT
BEGIN:VEVENT
DTSTART;TZID=America/Los_Angeles:20260512T103000
DTEND;TZID=America/Los_Angeles:20260512T120000
DTSTAMP:20260422T152019
CREATED:20260331T170533Z
LAST-MODIFIED:20260331T170616Z
UID:10000349-1778581800-1778587200@connectedhorse.org
SUMMARY:Sensory Engagement Class - Carefield Living
DESCRIPTION:Our Sensory Engagement Class is designed to introduce community groups\, senior living communities\, and other organizations focused on those affected by dementia to the therapeutic benefits of sensory engagement! A trained Connected Horse facilitator will guide your group through interactive activities to stimulate the senses. \n\n\nCommunity Residents Only \n\n\nIf your community group or senior living community is interested in scheduling a Sensory Engagement Class\, please contact us at info@connectedhorse.org
URL:https://connectedhorse.org/event/sensory-engagement-class-carefield-living-6/
LOCATION:Carefield Living\, Pleasanton\, Pleasanton\, CA
CATEGORIES:Custom Program,Sensory Engagement
ATTACH;FMTTYPE=image/jpeg:https://connectedhorse.org/wp-content/uploads/class-carefield.jpg
END:VEVENT
BEGIN:VEVENT
DTSTART;TZID=America/Los_Angeles:20260609T103000
DTEND;TZID=America/Los_Angeles:20260609T120000
DTSTAMP:20260422T152019
CREATED:20260331T170707Z
LAST-MODIFIED:20260331T170707Z
UID:10000351-1781001000-1781006400@connectedhorse.org
SUMMARY:Sensory Engagement Class - Carefield Living
DESCRIPTION:Our Sensory Engagement Class is designed to introduce community groups\, senior living communities\, and other organizations focused on those affected by dementia to the therapeutic benefits of sensory engagement! A trained Connected Horse facilitator will guide your group through interactive activities to stimulate the senses. \n\n\nCommunity Residents Only \n\n\nIf your community group or senior living community is interested in scheduling a Sensory Engagement Class\, please contact us at info@connectedhorse.org
URL:https://connectedhorse.org/event/sensory-engagement-class-carefield-living-7/
LOCATION:Carefield Living\, Pleasanton\, Pleasanton\, CA
CATEGORIES:Custom Program,Sensory Engagement
ATTACH;FMTTYPE=image/jpeg:https://connectedhorse.org/wp-content/uploads/class-carefield.jpg
END:VEVENT
END:VCALENDAR