BEGIN:VCALENDAR
VERSION:2.0
PRODID:-//Connected Horse - ECPv6.15.17.1//NONSGML v1.0//EN
CALSCALE:GREGORIAN
METHOD:PUBLISH
X-ORIGINAL-URL:https://connectedhorse.org
X-WR-CALDESC:Events for Connected Horse
REFRESH-INTERVAL;VALUE=DURATION:PT1H
X-Robots-Tag:noindex
X-PUBLISHED-TTL:PT1H
BEGIN:VTIMEZONE
TZID:America/Los_Angeles
BEGIN:DAYLIGHT
TZOFFSETFROM:-0800
TZOFFSETTO:-0700
TZNAME:PDT
DTSTART:20220313T100000
END:DAYLIGHT
BEGIN:STANDARD
TZOFFSETFROM:-0700
TZOFFSETTO:-0800
TZNAME:PST
DTSTART:20221106T090000
END:STANDARD
BEGIN:DAYLIGHT
TZOFFSETFROM:-0800
TZOFFSETTO:-0700
TZNAME:PDT
DTSTART:20230312T100000
END:DAYLIGHT
BEGIN:STANDARD
TZOFFSETFROM:-0700
TZOFFSETTO:-0800
TZNAME:PST
DTSTART:20231105T090000
END:STANDARD
BEGIN:DAYLIGHT
TZOFFSETFROM:-0800
TZOFFSETTO:-0700
TZNAME:PDT
DTSTART:20240310T100000
END:DAYLIGHT
BEGIN:STANDARD
TZOFFSETFROM:-0700
TZOFFSETTO:-0800
TZNAME:PST
DTSTART:20241103T090000
END:STANDARD
END:VTIMEZONE
BEGIN:VEVENT
DTSTART;TZID=America/Los_Angeles:20230707T170000
DTEND;TZID=America/Los_Angeles:20230707T200000
DTSTAMP:20260421T094620
CREATED:20230429T040116Z
LAST-MODIFIED:20230607T002630Z
UID:10000003-1688749200-1688760000@connectedhorse.org
SUMMARY:Lassos with Love Fundraiser
DESCRIPTION:Dementia is the healthcare crisis of our generation. Connected Horse is the first and foremost equine-guided program that improves the quality of life for both people living with dementia and their care partners. \nReserve your seats now for our special evening on July 7th with the guest of honor\, famed Cavalia trick rider Kansas Carradine. Enjoy a gourmet picnic dinner and wine bar at the spectacular 5 Star Equestrian in Pleasanton with a special presentation by Kansas. \nYour generous donation helps us deliver life-changing workshops to anyone affected by dementia and their care partners and to expand our valued programming. \nBuy Tickets or Donate Now
URL:https://connectedhorse.org/event/lassos-with-love-fundraiser/
LOCATION:Five Star Equestrian\, Pleasanton\, CA\, 94588\, United States
CATEGORIES:Fundraiser
ATTACH;FMTTYPE=image/png:https://connectedhorse.org/wp-content/uploads/website-calendar-1.png
END:VEVENT
END:VCALENDAR