BEGIN:VCALENDAR
VERSION:2.0
PRODID:-//Connected Horse - ECPv6.15.17.1//NONSGML v1.0//EN
CALSCALE:GREGORIAN
METHOD:PUBLISH
X-WR-CALNAME:Connected Horse
X-ORIGINAL-URL:https://connectedhorse.org
X-WR-CALDESC:Events for Connected Horse
REFRESH-INTERVAL;VALUE=DURATION:PT1H
X-Robots-Tag:noindex
X-PUBLISHED-TTL:PT1H
BEGIN:VTIMEZONE
TZID:America/Los_Angeles
BEGIN:DAYLIGHT
TZOFFSETFROM:-0800
TZOFFSETTO:-0700
TZNAME:PDT
DTSTART:20220313T100000
END:DAYLIGHT
BEGIN:STANDARD
TZOFFSETFROM:-0700
TZOFFSETTO:-0800
TZNAME:PST
DTSTART:20221106T090000
END:STANDARD
BEGIN:DAYLIGHT
TZOFFSETFROM:-0800
TZOFFSETTO:-0700
TZNAME:PDT
DTSTART:20230312T100000
END:DAYLIGHT
BEGIN:STANDARD
TZOFFSETFROM:-0700
TZOFFSETTO:-0800
TZNAME:PST
DTSTART:20231105T090000
END:STANDARD
BEGIN:DAYLIGHT
TZOFFSETFROM:-0800
TZOFFSETTO:-0700
TZNAME:PDT
DTSTART:20240310T100000
END:DAYLIGHT
BEGIN:STANDARD
TZOFFSETFROM:-0700
TZOFFSETTO:-0800
TZNAME:PST
DTSTART:20241103T090000
END:STANDARD
END:VTIMEZONE
BEGIN:VEVENT
DTSTART;TZID=America/Los_Angeles:20230709T130000
DTEND;TZID=America/Los_Angeles:20230709T153000
DTSTAMP:20260423T015854
CREATED:20230504T021730Z
LAST-MODIFIED:20230601T235840Z
UID:10000006-1688907600-1688916600@connectedhorse.org
SUMMARY:Workshop: Pleasanton
DESCRIPTION:Feel more alive\, present\, and interconnected. Our in-person workshops for people experiencing memory changes or early-stage dementia and their care partners offer a range of activities at barns and equine facilities that are based on research conducted at UC Davis and Stanford Universities and have been shown to benefit participants through hundreds of workshops in diverse communities. \n\n\nNo prior experience with horses is necessary to participate. Participants will be engaging with horses from the ground\, no riding.  All participants must be ambulatory and willing to participate together. \n\n\nThere is no fee to participate; however\, donations are gratefully accepted. \n\nThree sessions meet on Sunday afternoons from 1:00-3:30pm. \nJuly 9\, 16\, 23 \nTo register or for more information\, please email Judy Vared at judy@connectedhorse.org or call (925) 708-0067.
URL:https://connectedhorse.org/event/workshop-pleasanton-4/
LOCATION:Five Star Equestrian\, Pleasanton\, CA\, 94588\, United States
CATEGORIES:In Person Workshop
ATTACH;FMTTYPE=image/jpeg:https://connectedhorse.org/wp-content/uploads/workshops-pleasanton.jpg
END:VEVENT
END:VCALENDAR