BEGIN:VCALENDAR
VERSION:2.0
PRODID:-//Connected Horse - ECPv6.15.17.1//NONSGML v1.0//EN
CALSCALE:GREGORIAN
METHOD:PUBLISH
X-ORIGINAL-URL:https://connectedhorse.org
X-WR-CALDESC:Events for Connected Horse
REFRESH-INTERVAL;VALUE=DURATION:PT1H
X-Robots-Tag:noindex
X-PUBLISHED-TTL:PT1H
BEGIN:VTIMEZONE
TZID:America/Los_Angeles
BEGIN:DAYLIGHT
TZOFFSETFROM:-0800
TZOFFSETTO:-0700
TZNAME:PDT
DTSTART:20240310T100000
END:DAYLIGHT
BEGIN:STANDARD
TZOFFSETFROM:-0700
TZOFFSETTO:-0800
TZNAME:PST
DTSTART:20241103T090000
END:STANDARD
BEGIN:DAYLIGHT
TZOFFSETFROM:-0800
TZOFFSETTO:-0700
TZNAME:PDT
DTSTART:20250309T100000
END:DAYLIGHT
BEGIN:STANDARD
TZOFFSETFROM:-0700
TZOFFSETTO:-0800
TZNAME:PST
DTSTART:20251102T090000
END:STANDARD
BEGIN:DAYLIGHT
TZOFFSETFROM:-0800
TZOFFSETTO:-0700
TZNAME:PDT
DTSTART:20260308T100000
END:DAYLIGHT
BEGIN:STANDARD
TZOFFSETFROM:-0700
TZOFFSETTO:-0800
TZNAME:PST
DTSTART:20261101T090000
END:STANDARD
END:VTIMEZONE
BEGIN:VEVENT
DTSTART;TZID=America/Los_Angeles:20250415T093000
DTEND;TZID=America/Los_Angeles:20250415T120000
DTSTAMP:20260421T183745
CREATED:20241219T193621Z
LAST-MODIFIED:20241219T193621Z
UID:10000201-1744709400-1744718400@connectedhorse.org
SUMMARY:Workshop: Calistoga
DESCRIPTION:Feel more alive\, present\, and interconnected. Our in-person workshops for people experiencing memory changes or early-stage dementia and their care partners offer a range of activities at barns and equine facilities that are based on research conducted at UC Davis and Stanford Universities and have been shown to benefit participants through hundreds of workshops in diverse communities. \n\n\nNo prior experience with horses is necessary to participate. Participants will be engaging with horses from the ground\, no riding.  All participants must be ambulatory and willing to participate together. \n\n\nThere is no fee to participate; however\, donations are gratefully accepted. \n\nThree sessions meet on Tuesday mornings from 9:30am-12:00pm. \nDates: April 15\, 22\, and 29\, 2025. \nTo register or for more information\, please email Melissa Gerard at melissa.gerard@providence.org or call (707) 815-6258.
URL:https://connectedhorse.org/event/workshop-calistoga-6/
LOCATION:Sunrise Horse Rescue\, 1400 Tubbs Lane\, Calistoga\, California\, 94515\, United States
CATEGORIES:In Person Workshop
ATTACH;FMTTYPE=image/jpeg:https://connectedhorse.org/wp-content/uploads/workshops-sunrise-calistoga.jpg
END:VEVENT
BEGIN:VEVENT
DTSTART;TZID=America/Los_Angeles:20250422T093000
DTEND;TZID=America/Los_Angeles:20250422T120000
DTSTAMP:20260421T183745
CREATED:20241219T193640Z
LAST-MODIFIED:20241219T193640Z
UID:10000202-1745314200-1745323200@connectedhorse.org
SUMMARY:Workshop: Calistoga
DESCRIPTION:Feel more alive\, present\, and interconnected. Our in-person workshops for people experiencing memory changes or early-stage dementia and their care partners offer a range of activities at barns and equine facilities that are based on research conducted at UC Davis and Stanford Universities and have been shown to benefit participants through hundreds of workshops in diverse communities. \n\n\nNo prior experience with horses is necessary to participate. Participants will be engaging with horses from the ground\, no riding.  All participants must be ambulatory and willing to participate together. \n\n\nThere is no fee to participate; however\, donations are gratefully accepted. \n\nThree sessions meet on Tuesday mornings from 9:30am-12:00pm. \nDates: April 15\, 22\, and 29\, 2025. \nTo register or for more information\, please email Melissa Gerard at melissa.gerard@providence.org or call (707) 815-6258.
URL:https://connectedhorse.org/event/workshop-calistoga-7/
LOCATION:Sunrise Horse Rescue\, 1400 Tubbs Lane\, Calistoga\, California\, 94515\, United States
CATEGORIES:In Person Workshop
ATTACH;FMTTYPE=image/jpeg:https://connectedhorse.org/wp-content/uploads/workshops-sunrise-calistoga.jpg
END:VEVENT
BEGIN:VEVENT
DTSTART;TZID=America/Los_Angeles:20250426T090000
DTEND;TZID=America/Los_Angeles:20250426T120000
DTSTAMP:20260421T183745
CREATED:20241219T193004Z
LAST-MODIFIED:20241219T193004Z
UID:10000195-1745658000-1745668800@connectedhorse.org
SUMMARY:Workshop: Minden
DESCRIPTION:Feel more alive\, present\, and interconnected. Our in-person workshops for people experiencing memory changes or early-stage dementia and their care partners offer a range of activities at barns and equine facilities that are based on research conducted at UC Davis and Stanford Universities and have been shown to benefit participants through hundreds of workshops in diverse communities. \n\n\nNo prior experience with horses is necessary to participate. Participants will be engaging with horses from the ground\, no riding.  All participants must be ambulatory and willing to participate together. \n\n\nThere is no fee to participate; however\, donations are gratefully accepted. \n\nThree sessions meet on Saturday mornings from 9:00-12:00pm on April 26\, May 3\, May 10\, 2025 \nTo register or for more information\, please email Catherine O’Brien\, Program Director at catskidsandhorses@gmail.com or call (775) 267-1775.
URL:https://connectedhorse.org/event/workshop-minden-15/
LOCATION:Kids n Horses\, Minden\, NV\, 89423\, United States
CATEGORIES:In Person Workshop
ATTACH;FMTTYPE=image/jpeg:https://connectedhorse.org/wp-content/uploads/workshops-kidshorses-minden.jpg
END:VEVENT
BEGIN:VEVENT
DTSTART;TZID=America/Los_Angeles:20250429T093000
DTEND;TZID=America/Los_Angeles:20250429T120000
DTSTAMP:20260421T183745
CREATED:20241219T193657Z
LAST-MODIFIED:20241219T193657Z
UID:10000203-1745919000-1745928000@connectedhorse.org
SUMMARY:Workshop: Calistoga
DESCRIPTION:Feel more alive\, present\, and interconnected. Our in-person workshops for people experiencing memory changes or early-stage dementia and their care partners offer a range of activities at barns and equine facilities that are based on research conducted at UC Davis and Stanford Universities and have been shown to benefit participants through hundreds of workshops in diverse communities. \n\n\nNo prior experience with horses is necessary to participate. Participants will be engaging with horses from the ground\, no riding.  All participants must be ambulatory and willing to participate together. \n\n\nThere is no fee to participate; however\, donations are gratefully accepted. \n\nThree sessions meet on Tuesday mornings from 9:30am-12:00pm. \nDates: April 15\, 22\, and 29\, 2025. \nTo register or for more information\, please email Melissa Gerard at melissa.gerard@providence.org or call (707) 815-6258.
URL:https://connectedhorse.org/event/workshop-calistoga-8/
LOCATION:Sunrise Horse Rescue\, 1400 Tubbs Lane\, Calistoga\, California\, 94515\, United States
CATEGORIES:In Person Workshop
ATTACH;FMTTYPE=image/jpeg:https://connectedhorse.org/wp-content/uploads/workshops-sunrise-calistoga.jpg
END:VEVENT
END:VCALENDAR