BEGIN:VCALENDAR
VERSION:2.0
PRODID:-//Connected Horse - ECPv6.15.17.1//NONSGML v1.0//EN
CALSCALE:GREGORIAN
METHOD:PUBLISH
X-ORIGINAL-URL:https://connectedhorse.org
X-WR-CALDESC:Events for Connected Horse
REFRESH-INTERVAL;VALUE=DURATION:PT1H
X-Robots-Tag:noindex
X-PUBLISHED-TTL:PT1H
BEGIN:VTIMEZONE
TZID:America/Los_Angeles
BEGIN:DAYLIGHT
TZOFFSETFROM:-0800
TZOFFSETTO:-0700
TZNAME:PDT
DTSTART:20240310T100000
END:DAYLIGHT
BEGIN:STANDARD
TZOFFSETFROM:-0700
TZOFFSETTO:-0800
TZNAME:PST
DTSTART:20241103T090000
END:STANDARD
BEGIN:DAYLIGHT
TZOFFSETFROM:-0800
TZOFFSETTO:-0700
TZNAME:PDT
DTSTART:20250309T100000
END:DAYLIGHT
BEGIN:STANDARD
TZOFFSETFROM:-0700
TZOFFSETTO:-0800
TZNAME:PST
DTSTART:20251102T090000
END:STANDARD
BEGIN:DAYLIGHT
TZOFFSETFROM:-0800
TZOFFSETTO:-0700
TZNAME:PDT
DTSTART:20260308T100000
END:DAYLIGHT
BEGIN:STANDARD
TZOFFSETFROM:-0700
TZOFFSETTO:-0800
TZNAME:PST
DTSTART:20261101T090000
END:STANDARD
END:VTIMEZONE
BEGIN:VEVENT
DTSTART;TZID=America/Los_Angeles:20250916T093000
DTEND;TZID=America/Los_Angeles:20250916T120000
DTSTAMP:20260421T094728
CREATED:20250805T005532Z
LAST-MODIFIED:20250805T005532Z
UID:10000244-1758015000-1758024000@connectedhorse.org
SUMMARY:Workshop: Calistoga
DESCRIPTION:Feel more alive\, present\, and interconnected. Our in-person workshops for people experiencing memory changes or early-stage dementia and their care partners offer a range of activities at barns and equine facilities that are based on research conducted at UC Davis and Stanford Universities and have been shown to benefit participants through hundreds of workshops in diverse communities. \n\n\nNo prior experience with horses is necessary to participate. Participants will be engaging with horses from the ground\, no riding.  All participants must be ambulatory and willing to participate together. \n\n\nThere is no fee to participate; however\, donations are gratefully accepted. \n\nThree sessions meet on Tuesday mornings from 9:30am-12:00pm. \nDates: September 16\, September 23\, and September 30. \nTo register or for more information\, please email Melissa Gerard at melissa.gerard@providence.org or call (707) 815-6258.
URL:https://connectedhorse.org/event/workshop-calistoga-fall2025/2025-09-16/
LOCATION:Sunrise Horse Rescue\, 1400 Tubbs Lane\, Calistoga\, California\, 94515\, United States
CATEGORIES:In Person Workshop
ATTACH;FMTTYPE=image/jpeg:https://connectedhorse.org/wp-content/uploads/workshops-sunrise-calistoga.jpg
END:VEVENT
BEGIN:VEVENT
DTSTART;TZID=America/Los_Angeles:20250923T093000
DTEND;TZID=America/Los_Angeles:20250923T120000
DTSTAMP:20260421T094728
CREATED:20250805T005532Z
LAST-MODIFIED:20250805T005532Z
UID:10000245-1758619800-1758628800@connectedhorse.org
SUMMARY:Workshop: Calistoga
DESCRIPTION:Feel more alive\, present\, and interconnected. Our in-person workshops for people experiencing memory changes or early-stage dementia and their care partners offer a range of activities at barns and equine facilities that are based on research conducted at UC Davis and Stanford Universities and have been shown to benefit participants through hundreds of workshops in diverse communities. \n\n\nNo prior experience with horses is necessary to participate. Participants will be engaging with horses from the ground\, no riding.  All participants must be ambulatory and willing to participate together. \n\n\nThere is no fee to participate; however\, donations are gratefully accepted. \n\nThree sessions meet on Tuesday mornings from 9:30am-12:00pm. \nDates: September 16\, September 23\, and September 30. \nTo register or for more information\, please email Melissa Gerard at melissa.gerard@providence.org or call (707) 815-6258.
URL:https://connectedhorse.org/event/workshop-calistoga-fall2025/2025-09-23/
LOCATION:Sunrise Horse Rescue\, 1400 Tubbs Lane\, Calistoga\, California\, 94515\, United States
CATEGORIES:In Person Workshop
ATTACH;FMTTYPE=image/jpeg:https://connectedhorse.org/wp-content/uploads/workshops-sunrise-calistoga.jpg
END:VEVENT
BEGIN:VEVENT
DTSTART;TZID=America/Los_Angeles:20250927T090000
DTEND;TZID=America/Los_Angeles:20250927T120000
DTSTAMP:20260421T094728
CREATED:20250812T185523Z
LAST-MODIFIED:20250812T185805Z
UID:10000272-1758963600-1758974400@connectedhorse.org
SUMMARY:Workshop: Minden
DESCRIPTION:Feel more alive\, present\, and interconnected. Our in-person workshops for people experiencing memory changes or early-stage dementia and their care partners offer a range of activities at barns and equine facilities that are based on research conducted at UC Davis and Stanford Universities and have been shown to benefit participants through hundreds of workshops in diverse communities. \n\n\nNo prior experience with horses is necessary to participate. Participants will be engaging with horses from the ground\, no riding.  All participants must be ambulatory and willing to participate together. \n\n\nThere is no fee to participate; however\, donations are gratefully accepted. \n\nThree sessions meet on three Saturday mornings from 9:00-12:00pm on September 27\, October 4\, and October 11\, 2025 \nTo register or for more information\, please email Catherine O’Brien\, Program Director at catskidsandhorses@gmail.com or call (775) 267-1775.
URL:https://connectedhorse.org/event/workshop-minden-21/2025-09-27/
LOCATION:Kids n Horses\, Minden\, NV\, 89423\, United States
CATEGORIES:In Person Workshop
ATTACH;FMTTYPE=image/jpeg:https://connectedhorse.org/wp-content/uploads/workshops-kidshorses-minden.jpg
END:VEVENT
BEGIN:VEVENT
DTSTART;TZID=America/Los_Angeles:20250930T093000
DTEND;TZID=America/Los_Angeles:20250930T120000
DTSTAMP:20260421T094728
CREATED:20250805T005532Z
LAST-MODIFIED:20250805T005532Z
UID:10000246-1759224600-1759233600@connectedhorse.org
SUMMARY:Workshop: Calistoga
DESCRIPTION:Feel more alive\, present\, and interconnected. Our in-person workshops for people experiencing memory changes or early-stage dementia and their care partners offer a range of activities at barns and equine facilities that are based on research conducted at UC Davis and Stanford Universities and have been shown to benefit participants through hundreds of workshops in diverse communities. \n\n\nNo prior experience with horses is necessary to participate. Participants will be engaging with horses from the ground\, no riding.  All participants must be ambulatory and willing to participate together. \n\n\nThere is no fee to participate; however\, donations are gratefully accepted. \n\nThree sessions meet on Tuesday mornings from 9:30am-12:00pm. \nDates: September 16\, September 23\, and September 30. \nTo register or for more information\, please email Melissa Gerard at melissa.gerard@providence.org or call (707) 815-6258.
URL:https://connectedhorse.org/event/workshop-calistoga-fall2025/2025-09-30/
LOCATION:Sunrise Horse Rescue\, 1400 Tubbs Lane\, Calistoga\, California\, 94515\, United States
CATEGORIES:In Person Workshop
ATTACH;FMTTYPE=image/jpeg:https://connectedhorse.org/wp-content/uploads/workshops-sunrise-calistoga.jpg
END:VEVENT
END:VCALENDAR