BEGIN:VCALENDAR
VERSION:2.0
PRODID:-//Connected Horse - ECPv6.15.17.1//NONSGML v1.0//EN
CALSCALE:GREGORIAN
METHOD:PUBLISH
X-ORIGINAL-URL:https://connectedhorse.org
X-WR-CALDESC:Events for Connected Horse
REFRESH-INTERVAL;VALUE=DURATION:PT1H
X-Robots-Tag:noindex
X-PUBLISHED-TTL:PT1H
BEGIN:VTIMEZONE
TZID:America/Los_Angeles
BEGIN:DAYLIGHT
TZOFFSETFROM:-0800
TZOFFSETTO:-0700
TZNAME:PDT
DTSTART:20230312T100000
END:DAYLIGHT
BEGIN:STANDARD
TZOFFSETFROM:-0700
TZOFFSETTO:-0800
TZNAME:PST
DTSTART:20231105T090000
END:STANDARD
BEGIN:DAYLIGHT
TZOFFSETFROM:-0800
TZOFFSETTO:-0700
TZNAME:PDT
DTSTART:20240310T100000
END:DAYLIGHT
BEGIN:STANDARD
TZOFFSETFROM:-0700
TZOFFSETTO:-0800
TZNAME:PST
DTSTART:20241103T090000
END:STANDARD
BEGIN:DAYLIGHT
TZOFFSETFROM:-0800
TZOFFSETTO:-0700
TZNAME:PDT
DTSTART:20250309T100000
END:DAYLIGHT
BEGIN:STANDARD
TZOFFSETFROM:-0700
TZOFFSETTO:-0800
TZNAME:PST
DTSTART:20251102T090000
END:STANDARD
END:VTIMEZONE
BEGIN:VEVENT
DTSTART;VALUE=DATE:20240426
DTEND;VALUE=DATE:20240428
DTSTAMP:20260422T203553
CREATED:20231213T000346Z
LAST-MODIFIED:20240405T183502Z
UID:10000151-1714089600-1714262399@connectedhorse.org
SUMMARY:Introduction to Connected Horse Facilitation: Minden\, NV
DESCRIPTION:Enroll in the Introduction to Connected Horse Facilitation. The training curriculum is like no other. Designed by Connected Horse Cofounders\, Paula Hertel and Nancy Schier Anzelmo\, both leading voices in gerontology and elder care\, the training is based on research with UC Davis and Stanford University\, and refined through hundreds of workshops. \nRequirements: \n\n6 hours of Connected Horse online training modules\nAttend two-day\, in-person workshop April 26 and 27 in Minden\, Nevada\nCommitment to 20 hours of practice work\, webinars\, case study review after the workshops and ongoing support and advising sessions.\n\nPricing: \n\n$400\, includes attendance at the workshop (both days)\, access to online training modules\, and Connected Horse workbook.\n$600\, includes attendance at the workshop (both days)\, access to online training modules\, and Connected Horse workbook plus 16 PATH CEUs (10 DEs and 6 CRs for ESMHL).\nAccommodations and travel expenses are not included. A block of hotel rooms will be available at the Holiday Inn Express & Suites at a discounted rate. The rate for the weekend of April 25th-28th is $169 per night for a king room and $179 for a double queen room per night. As a reminder\, both nights need to be booked to get the group rate.  The group code is CCH.   Must book by April 19\, 2024.\n\nHoliday Inn Express\n(P) 775-782-7500\n1659 State Route 88\nMinden\, NV 89423\n\n\nReserve your place today! Spaces are limited.\nLimited scholarships may be available for partner barns.\n\nFor more information\, and to learn more\, please complete a contact form and select ‘training institute.’ \nREGISTER NOW
URL:https://connectedhorse.org/event/facilitator-training-academy-minden-spring-2024/
LOCATION:Kids n Horses\, Minden\, NV\, 89423\, United States
CATEGORIES:Training Institute
ATTACH;FMTTYPE=image/jpeg:https://connectedhorse.org/wp-content/uploads/training-institute-1.jpg
END:VEVENT
END:VCALENDAR