BEGIN:VCALENDAR
VERSION:2.0
PRODID:-//Connected Horse - ECPv6.15.17.1//NONSGML v1.0//EN
CALSCALE:GREGORIAN
METHOD:PUBLISH
X-WR-CALNAME:Connected Horse
X-ORIGINAL-URL:https://connectedhorse.org
X-WR-CALDESC:Events for Connected Horse
REFRESH-INTERVAL;VALUE=DURATION:PT1H
X-Robots-Tag:noindex
X-PUBLISHED-TTL:PT1H
BEGIN:VTIMEZONE
TZID:America/Los_Angeles
BEGIN:DAYLIGHT
TZOFFSETFROM:-0800
TZOFFSETTO:-0700
TZNAME:PDT
DTSTART:20240310T100000
END:DAYLIGHT
BEGIN:STANDARD
TZOFFSETFROM:-0700
TZOFFSETTO:-0800
TZNAME:PST
DTSTART:20241103T090000
END:STANDARD
BEGIN:DAYLIGHT
TZOFFSETFROM:-0800
TZOFFSETTO:-0700
TZNAME:PDT
DTSTART:20250309T100000
END:DAYLIGHT
BEGIN:STANDARD
TZOFFSETFROM:-0700
TZOFFSETTO:-0800
TZNAME:PST
DTSTART:20251102T090000
END:STANDARD
BEGIN:DAYLIGHT
TZOFFSETFROM:-0800
TZOFFSETTO:-0700
TZNAME:PDT
DTSTART:20260308T100000
END:DAYLIGHT
BEGIN:STANDARD
TZOFFSETFROM:-0700
TZOFFSETTO:-0800
TZNAME:PST
DTSTART:20261101T090000
END:STANDARD
END:VTIMEZONE
BEGIN:VEVENT
DTSTART;TZID=America/Los_Angeles:20251107T170000
DTEND;TZID=America/Los_Angeles:20251107T190000
DTSTAMP:20260421T070746
CREATED:20251210T210502Z
LAST-MODIFIED:20251210T210737Z
UID:10000306-1762534800-1762542000@connectedhorse.org
SUMMARY:Volunteer & Supporter Appreciation
DESCRIPTION:We’re so grateful for all that you’ve done to make this year truly extraordinary! From our Lassos with Love fundraiser to our growing equine-guided workshops and community partnerships. Your support has helped us bring connection to so many care partners and individuals living with memory changes. \nTo celebrate you (and everything we’ve accomplished together)\, we invite you to a special evening of gratitude.  \nVolunteer & Supporter Appreciation Night\nFriday\, November 7 | 5:00–7:00 PM \nIndustrious\, 1212 Broadway Plaza\, #2100 (next to See’s Candies)\, Walnut Creek\nEnjoy light bites\, wine\, and a short presentation about our programs\, impact\, and what’s ahead for Connected Horse. It’s a chance to relax\, connect with fellow volunteers and supporters\, and see the difference you’re helping create. \nSponsored by The Good Agent Team.  \nWe hope you’ll join us in celebrating this incredible community.  \nPlease RSVP by November 5 so we can plan accordingly.\nWith thanks\,\nThe Connected Horse Team
URL:https://connectedhorse.org/event/volunteer-supporter-appreciation/
LOCATION:CA
CATEGORIES:Volunteer
ATTACH;FMTTYPE=image/jpeg:https://connectedhorse.org/wp-content/uploads/vol-appreciation.jpg
END:VEVENT
END:VCALENDAR