BEGIN:VCALENDAR
VERSION:2.0
PRODID:-//Connected Horse - ECPv6.15.17.1//NONSGML v1.0//EN
CALSCALE:GREGORIAN
METHOD:PUBLISH
X-WR-CALNAME:Connected Horse
X-ORIGINAL-URL:https://connectedhorse.org
X-WR-CALDESC:Events for Connected Horse
REFRESH-INTERVAL;VALUE=DURATION:PT1H
X-Robots-Tag:noindex
X-PUBLISHED-TTL:PT1H
BEGIN:VTIMEZONE
TZID:America/Los_Angeles
BEGIN:DAYLIGHT
TZOFFSETFROM:-0800
TZOFFSETTO:-0700
TZNAME:PDT
DTSTART:20220313T100000
END:DAYLIGHT
BEGIN:STANDARD
TZOFFSETFROM:-0700
TZOFFSETTO:-0800
TZNAME:PST
DTSTART:20221106T090000
END:STANDARD
BEGIN:DAYLIGHT
TZOFFSETFROM:-0800
TZOFFSETTO:-0700
TZNAME:PDT
DTSTART:20230312T100000
END:DAYLIGHT
BEGIN:STANDARD
TZOFFSETFROM:-0700
TZOFFSETTO:-0800
TZNAME:PST
DTSTART:20231105T090000
END:STANDARD
BEGIN:DAYLIGHT
TZOFFSETFROM:-0800
TZOFFSETTO:-0700
TZNAME:PDT
DTSTART:20240310T100000
END:DAYLIGHT
BEGIN:STANDARD
TZOFFSETFROM:-0700
TZOFFSETTO:-0800
TZNAME:PST
DTSTART:20241103T090000
END:STANDARD
END:VTIMEZONE
BEGIN:VTIMEZONE
TZID:UTC
BEGIN:STANDARD
TZOFFSETFROM:+0000
TZOFFSETTO:+0000
TZNAME:UTC
DTSTART:20220101T000000
END:STANDARD
END:VTIMEZONE
BEGIN:VEVENT
DTSTART;TZID=America/Los_Angeles:20231003T103000
DTEND;TZID=America/Los_Angeles:20231003T123000
DTSTAMP:20260421T015112
CREATED:20230712T165233Z
LAST-MODIFIED:20230928T204136Z
UID:10000014-1696329000-1696336200@connectedhorse.org
SUMMARY:Workshop: Orinda
DESCRIPTION:Feel more alive\, present\, and interconnected. Our in-person workshops for people experiencing memory changes or early-stage dementia and their care partners offer a range of activities at barns and equine facilities that are based on research conducted at UC Davis and Stanford Universities and have been shown to benefit participants through hundreds of workshops in diverse communities. \n\n\nNo prior experience with horses is necessary to participate. Participants will be engaging with horses from the ground\, no riding.  All participants must be ambulatory and willing to participate together. \n\n\nThere is no fee to participate; however\, donations are gratefully accepted. \n\nFour sessions meet on Tuesday mornings from 10:30am-12:30pm. \nOctober 3\, 10\, 17\, 24 \nTo register or for more information\, please email Penny Sinder Penny Sinder at penny@xenophontrc.org or call (925) 377-0871.
URL:https://connectedhorse.org/event/workshop-orinda-2/2023-10-03/
LOCATION:Xenophon Therapeutic Riding Center\, Orinda\, CA\, 94563\, United States
CATEGORIES:In Person Workshop
ATTACH;FMTTYPE=image/jpeg:https://connectedhorse.org/wp-content/uploads/workshops-xenophon.jpg
END:VEVENT
BEGIN:VEVENT
DTSTART;TZID=America/Los_Angeles:20231008T130000
DTEND;TZID=America/Los_Angeles:20231008T153000
DTSTAMP:20260421T015112
CREATED:20230504T022048Z
LAST-MODIFIED:20230928T204316Z
UID:10000008-1696770000-1696779000@connectedhorse.org
SUMMARY:Workshop: Pleasanton
DESCRIPTION:Feel more alive\, present\, and interconnected. Our in-person workshops for people experiencing memory changes or early-stage dementia and their care partners offer a range of activities at barns and equine facilities that are based on research conducted at UC Davis and Stanford Universities and have been shown to benefit participants through hundreds of workshops in diverse communities. \n\n\nNo prior experience with horses is necessary to participate. Participants will be engaging with horses from the ground\, no riding.  All participants must be ambulatory and willing to participate together. \n\n\nThere is no fee to participate; however\, donations are gratefully accepted. \n\nThree sessions meet on Sunday afternoons from 1:00-3:30pm. \nOctober 8\, 15\, 22 \nTo register or for more information\, please email Judy Vared at judy@connectedhorse.org or call (925) 708-0067.
URL:https://connectedhorse.org/event/workshop-pleasanton-6/2023-10-08/
LOCATION:Five Star Equestrian\, Pleasanton\, CA\, 94588\, United States
CATEGORIES:In Person Workshop
ATTACH;FMTTYPE=image/jpeg:https://connectedhorse.org/wp-content/uploads/workshops-pleasanton-new.jpg
END:VEVENT
BEGIN:VEVENT
DTSTART;TZID=America/Los_Angeles:20231010T103000
DTEND;TZID=America/Los_Angeles:20231010T123000
DTSTAMP:20260421T015112
CREATED:20230712T165233Z
LAST-MODIFIED:20230928T204136Z
UID:10000018-1696933800-1696941000@connectedhorse.org
SUMMARY:Workshop: Orinda
DESCRIPTION:Feel more alive\, present\, and interconnected. Our in-person workshops for people experiencing memory changes or early-stage dementia and their care partners offer a range of activities at barns and equine facilities that are based on research conducted at UC Davis and Stanford Universities and have been shown to benefit participants through hundreds of workshops in diverse communities. \n\n\nNo prior experience with horses is necessary to participate. Participants will be engaging with horses from the ground\, no riding.  All participants must be ambulatory and willing to participate together. \n\n\nThere is no fee to participate; however\, donations are gratefully accepted. \n\nFour sessions meet on Tuesday mornings from 10:30am-12:30pm. \nOctober 3\, 10\, 17\, 24 \nTo register or for more information\, please email Penny Sinder Penny Sinder at penny@xenophontrc.org or call (925) 377-0871.
URL:https://connectedhorse.org/event/workshop-orinda-2/2023-10-10/
LOCATION:Xenophon Therapeutic Riding Center\, Orinda\, CA\, 94563\, United States
CATEGORIES:In Person Workshop
ATTACH;FMTTYPE=image/jpeg:https://connectedhorse.org/wp-content/uploads/workshops-xenophon.jpg
END:VEVENT
BEGIN:VEVENT
DTSTART;TZID=America/Los_Angeles:20231015T130000
DTEND;TZID=America/Los_Angeles:20231015T153000
DTSTAMP:20260421T015112
CREATED:20230504T022048Z
LAST-MODIFIED:20230928T204316Z
UID:10000073-1697374800-1697383800@connectedhorse.org
SUMMARY:Workshop: Pleasanton
DESCRIPTION:Feel more alive\, present\, and interconnected. Our in-person workshops for people experiencing memory changes or early-stage dementia and their care partners offer a range of activities at barns and equine facilities that are based on research conducted at UC Davis and Stanford Universities and have been shown to benefit participants through hundreds of workshops in diverse communities. \n\n\nNo prior experience with horses is necessary to participate. Participants will be engaging with horses from the ground\, no riding.  All participants must be ambulatory and willing to participate together. \n\n\nThere is no fee to participate; however\, donations are gratefully accepted. \n\nThree sessions meet on Sunday afternoons from 1:00-3:30pm. \nOctober 8\, 15\, 22 \nTo register or for more information\, please email Judy Vared at judy@connectedhorse.org or call (925) 708-0067.
URL:https://connectedhorse.org/event/workshop-pleasanton-6/2023-10-15/
LOCATION:Five Star Equestrian\, Pleasanton\, CA\, 94588\, United States
CATEGORIES:In Person Workshop
ATTACH;FMTTYPE=image/jpeg:https://connectedhorse.org/wp-content/uploads/workshops-pleasanton-new.jpg
END:VEVENT
BEGIN:VEVENT
DTSTART;TZID=America/Los_Angeles:20231016T090000
DTEND;TZID=America/Los_Angeles:20231016T113000
DTSTAMP:20260421T015112
CREATED:20230712T164751Z
LAST-MODIFIED:20230928T204415Z
UID:10000013-1697446800-1697455800@connectedhorse.org
SUMMARY:Workshop: Minden
DESCRIPTION:Feel more alive\, present\, and interconnected. Our in-person workshops for people experiencing memory changes or early-stage dementia and their care partners offer a range of activities at barns and equine facilities that are based on research conducted at UC Davis and Stanford Universities and have been shown to benefit participants through hundreds of workshops in diverse communities. \n\n\nNo prior experience with horses is necessary to participate. Participants will be engaging with horses from the ground\, no riding.  All participants must be ambulatory and willing to participate together. \n\n\nThere is no fee to participate; however\, donations are gratefully accepted. \n\nThree sessions meet on Saturday mornings from 9:00-11:30am on October 16\, 23 and 30 \nTo register or for more information\, please email Catherine O’Brien\, Program Director at catskidsandhorses@gmail.com or call (775) 267-1775.
URL:https://connectedhorse.org/event/workshop-minden-3/2023-10-16/
LOCATION:Kids n Horses\, Minden\, NV\, 89423\, United States
CATEGORIES:In Person Workshop
ATTACH;FMTTYPE=image/jpeg:https://connectedhorse.org/wp-content/uploads/workshops-kidshorses-minden.jpg
END:VEVENT
BEGIN:VEVENT
DTSTART;TZID=America/Los_Angeles:20231017T103000
DTEND;TZID=America/Los_Angeles:20231017T123000
DTSTAMP:20260421T015112
CREATED:20230712T165233Z
LAST-MODIFIED:20230928T204136Z
UID:10000019-1697538600-1697545800@connectedhorse.org
SUMMARY:Workshop: Orinda
DESCRIPTION:Feel more alive\, present\, and interconnected. Our in-person workshops for people experiencing memory changes or early-stage dementia and their care partners offer a range of activities at barns and equine facilities that are based on research conducted at UC Davis and Stanford Universities and have been shown to benefit participants through hundreds of workshops in diverse communities. \n\n\nNo prior experience with horses is necessary to participate. Participants will be engaging with horses from the ground\, no riding.  All participants must be ambulatory and willing to participate together. \n\n\nThere is no fee to participate; however\, donations are gratefully accepted. \n\nFour sessions meet on Tuesday mornings from 10:30am-12:30pm. \nOctober 3\, 10\, 17\, 24 \nTo register or for more information\, please email Penny Sinder Penny Sinder at penny@xenophontrc.org or call (925) 377-0871.
URL:https://connectedhorse.org/event/workshop-orinda-2/2023-10-17/
LOCATION:Xenophon Therapeutic Riding Center\, Orinda\, CA\, 94563\, United States
CATEGORIES:In Person Workshop
ATTACH;FMTTYPE=image/jpeg:https://connectedhorse.org/wp-content/uploads/workshops-xenophon.jpg
END:VEVENT
BEGIN:VEVENT
DTSTART;TZID=America/Los_Angeles:20231022T130000
DTEND;TZID=America/Los_Angeles:20231022T153000
DTSTAMP:20260421T015112
CREATED:20230504T022048Z
LAST-MODIFIED:20230928T204316Z
UID:10000074-1697979600-1697988600@connectedhorse.org
SUMMARY:Workshop: Pleasanton
DESCRIPTION:Feel more alive\, present\, and interconnected. Our in-person workshops for people experiencing memory changes or early-stage dementia and their care partners offer a range of activities at barns and equine facilities that are based on research conducted at UC Davis and Stanford Universities and have been shown to benefit participants through hundreds of workshops in diverse communities. \n\n\nNo prior experience with horses is necessary to participate. Participants will be engaging with horses from the ground\, no riding.  All participants must be ambulatory and willing to participate together. \n\n\nThere is no fee to participate; however\, donations are gratefully accepted. \n\nThree sessions meet on Sunday afternoons from 1:00-3:30pm. \nOctober 8\, 15\, 22 \nTo register or for more information\, please email Judy Vared at judy@connectedhorse.org or call (925) 708-0067.
URL:https://connectedhorse.org/event/workshop-pleasanton-6/2023-10-22/
LOCATION:Five Star Equestrian\, Pleasanton\, CA\, 94588\, United States
CATEGORIES:In Person Workshop
ATTACH;FMTTYPE=image/jpeg:https://connectedhorse.org/wp-content/uploads/workshops-pleasanton-new.jpg
END:VEVENT
BEGIN:VEVENT
DTSTART;TZID=America/Los_Angeles:20231023T090000
DTEND;TZID=America/Los_Angeles:20231023T113000
DTSTAMP:20260421T015112
CREATED:20230712T164751Z
LAST-MODIFIED:20230928T204415Z
UID:10000075-1698051600-1698060600@connectedhorse.org
SUMMARY:Workshop: Minden
DESCRIPTION:Feel more alive\, present\, and interconnected. Our in-person workshops for people experiencing memory changes or early-stage dementia and their care partners offer a range of activities at barns and equine facilities that are based on research conducted at UC Davis and Stanford Universities and have been shown to benefit participants through hundreds of workshops in diverse communities. \n\n\nNo prior experience with horses is necessary to participate. Participants will be engaging with horses from the ground\, no riding.  All participants must be ambulatory and willing to participate together. \n\n\nThere is no fee to participate; however\, donations are gratefully accepted. \n\nThree sessions meet on Saturday mornings from 9:00-11:30am on October 16\, 23 and 30 \nTo register or for more information\, please email Catherine O’Brien\, Program Director at catskidsandhorses@gmail.com or call (775) 267-1775.
URL:https://connectedhorse.org/event/workshop-minden-3/2023-10-23/
LOCATION:Kids n Horses\, Minden\, NV\, 89423\, United States
CATEGORIES:In Person Workshop
ATTACH;FMTTYPE=image/jpeg:https://connectedhorse.org/wp-content/uploads/workshops-kidshorses-minden.jpg
END:VEVENT
BEGIN:VEVENT
DTSTART;TZID=America/Los_Angeles:20231024T103000
DTEND;TZID=America/Los_Angeles:20231024T123000
DTSTAMP:20260421T015112
CREATED:20230712T165233Z
LAST-MODIFIED:20230928T204136Z
UID:10000020-1698143400-1698150600@connectedhorse.org
SUMMARY:Workshop: Orinda
DESCRIPTION:Feel more alive\, present\, and interconnected. Our in-person workshops for people experiencing memory changes or early-stage dementia and their care partners offer a range of activities at barns and equine facilities that are based on research conducted at UC Davis and Stanford Universities and have been shown to benefit participants through hundreds of workshops in diverse communities. \n\n\nNo prior experience with horses is necessary to participate. Participants will be engaging with horses from the ground\, no riding.  All participants must be ambulatory and willing to participate together. \n\n\nThere is no fee to participate; however\, donations are gratefully accepted. \n\nFour sessions meet on Tuesday mornings from 10:30am-12:30pm. \nOctober 3\, 10\, 17\, 24 \nTo register or for more information\, please email Penny Sinder Penny Sinder at penny@xenophontrc.org or call (925) 377-0871.
URL:https://connectedhorse.org/event/workshop-orinda-2/2023-10-24/
LOCATION:Xenophon Therapeutic Riding Center\, Orinda\, CA\, 94563\, United States
CATEGORIES:In Person Workshop
ATTACH;FMTTYPE=image/jpeg:https://connectedhorse.org/wp-content/uploads/workshops-xenophon.jpg
END:VEVENT
BEGIN:VEVENT
DTSTART;TZID=America/Los_Angeles:20231030T090000
DTEND;TZID=America/Los_Angeles:20231030T113000
DTSTAMP:20260421T015112
CREATED:20230712T164751Z
LAST-MODIFIED:20230928T204415Z
UID:10000076-1698656400-1698665400@connectedhorse.org
SUMMARY:Workshop: Minden
DESCRIPTION:Feel more alive\, present\, and interconnected. Our in-person workshops for people experiencing memory changes or early-stage dementia and their care partners offer a range of activities at barns and equine facilities that are based on research conducted at UC Davis and Stanford Universities and have been shown to benefit participants through hundreds of workshops in diverse communities. \n\n\nNo prior experience with horses is necessary to participate. Participants will be engaging with horses from the ground\, no riding.  All participants must be ambulatory and willing to participate together. \n\n\nThere is no fee to participate; however\, donations are gratefully accepted. \n\nThree sessions meet on Saturday mornings from 9:00-11:30am on October 16\, 23 and 30 \nTo register or for more information\, please email Catherine O’Brien\, Program Director at catskidsandhorses@gmail.com or call (775) 267-1775.
URL:https://connectedhorse.org/event/workshop-minden-3/2023-10-30/
LOCATION:Kids n Horses\, Minden\, NV\, 89423\, United States
CATEGORIES:In Person Workshop
ATTACH;FMTTYPE=image/jpeg:https://connectedhorse.org/wp-content/uploads/workshops-kidshorses-minden.jpg
END:VEVENT
BEGIN:VEVENT
DTSTART;TZID=UTC:20231031T093000
DTEND;TZID=UTC:20231031T120000
DTSTAMP:20260421T015112
CREATED:20230905T184330Z
LAST-MODIFIED:20230928T204508Z
UID:10000015-1698744600-1698753600@connectedhorse.org
SUMMARY:Workshop: Calistoga
DESCRIPTION:Based on research conducted at UC Davis and Stanford Universities\, our workshops are designed to benefit people with memory changes or early-stage dementia and their care partners. \nNo prior experience with horses is necessary to participate. Participants will be engaging with horses from the ground\, no riding.  All participants must be ambulatory and willing to participate together. \nThere is no fee to participate; however\, donations are gratefully accepted. \nThree sessions meet on Tuesday mornings from 9:30am-12:00pm. \nDates: October 31\, November 7 and 14* \n*an optional makeup day will be offered on November 21 in the event that another sessions is rained out. \nFor more information about upcoming workshops\, please email  Judy@connectedhorse.org or call 925-708-0067.
URL:https://connectedhorse.org/event/workshop-calistoga-2/2023-10-31/
LOCATION:Sunrise Horse Rescue\, 1400 Tubbs Lane\, Calistoga\, California\, 94515\, United States
CATEGORIES:In Person Workshop
ATTACH;FMTTYPE=image/jpeg:https://connectedhorse.org/wp-content/uploads/workshops-sunrise-calistoga.jpg
END:VEVENT
END:VCALENDAR